2.43840000
0.00000000
0.00000000
-2.43840000
270690.52187031
3876484.93729687
