2.43840000
0.00000000
0.00000000
-2.43840000
591039.64499990
3818746.90827648
