2.43840000
0.00000000
0.00000000
-2.43840000
648196.72823563
3833430.35020525
