2.43840000
0.00000000
0.00000000
-2.43840000
464809.45428687
3832090.30639975
