2.43840000
0.00000000
0.00000000
-2.43840000
362746.73474703
3916238.98612901
