2.43840000
0.00000000
0.00000000
-2.43840000
225381.89384203
3891613.72031804
