2.43840000
0.00000000
0.00000000
-2.43840000
669552.13470843
3917047.51567433
