2.43840000
0.00000000
0.00000000
-2.43840000
658197.71915744
3916822.99572533
