2.438400
0.000000
0.000000
-2.438400
624090.407695
3916225.174882
