2.43840000
0.00000000
0.00000000
-2.43840000
668495.50794482
3972511.09254697
