2.43840000
0.00000000
0.00000000
-2.43840000
668228.46573523
3986376.53749849
