2.43840000
0.00000000
0.00000000
-2.43840000
578097.30848601
3984980.06301896
