2.43840000
0.00000000
0.00000000
-2.43840000
352744.35765185
3999610.68772980
