2.43840000
0.00000000
0.00000000
-2.43840000
342727.27403358
4069143.11361816
