2.43840000
0.00000000
0.00000000
-2.43840000
308572.58513997
4042085.06458942
