2.438400
0.000000
0.000000
-2.438400
264655.204503
4084811.536385
