2.43840000
0.00000000
0.00000000
-2.43840000
757552.07952089
4016438.77570551
