2.43840000
0.00000000
0.00000000
-2.43840000
723494.79673452
4029324.68052840
