2.43840000
0.00000000
0.00000000
-2.43840000
733952.92848488
4057378.92983205
