2.43840000
0.00000000
0.00000000
-2.43840000
700091.93076536
4070348.37781302
