2.43840000
0.00000000
0.00000000
-2.43840000
710562.35037390
4098372.21082628
