2.43840000
0.00000000
0.00000000
-2.43840000
611716.08683470
3999264.66310984
