2.43840000
0.00000000
0.00000000
-2.43840000
577595.84343418
4040439.93108265
