2.43840000
0.00000000
0.00000000
-2.43840000
454235.49746353
4012358.28268185
