2.43840000
0.00000000
0.00000000
-2.43840000
465701.77540103
4067767.63894683
