2.438400
0
0
-2.438400
332681.585374
4652315.978236
