2.4384
0
0
-2.4384
426996.276018
4734007.016072
