2.4384
0
0
-2.4384
437576.169788
4761705.228722
