2.4384
0
0
-2.4384
385079.865847
4692917.991057
