2.438400
0.000000
0.000000
-2.438400
345245.749089
4763096.110624
