2.438400
0.000000
0.000000
-2.438400
282168.163550
4695403.618663
