2.438400
0.000000
0.000000
-2.438400
664262.169015
4666432.993383
