2.438400
0.000000
0.000000
-2.438400
580913.533187
4734254.907205
