2.438400
0.000000
0.000000
-2.438400
571412.449158
4664697.272929
