2.438400000000
0.000000000000
0.000000000000
-2.438400000000
468357.583985845150
4705912.589733383600
