2.438400000000
0.000000000000
0.000000000000
-2.438400000000
447768.664192612690
4706037.703457970200
