2.438400000000
0.000000000000
0.000000000000
-2.438400000000
385780.802283160040
4692890.475265742300
