2.438400000000
0.000000000000
0.000000000000
-2.438400000000
458552.867207544620
4789250.649364144500
