2.438400000000
0.000000000000
0.000000000000
-2.438400000000
448802.047054930420
4844844.720866712700
