2.438400
0.000000
0.000000
-2.438400
397620.322207
4817722.059998
