2.438400
0.000000
0.000000
-2.438400
407914.305302
4845308.089649
