2.438400
0.000000
0.000000
-2.438400
285800.436337
4820339.022291
