2.438400
0.000000
0.000000
-2.438400
267151.344088
4862612.161062
