2.438400
0.000000
0.000000
-2.438400
719013.896130
4876465.656765
