2.438400
0.000000
0.000000
-2.438400
569532.049943
4831273.306684
