2.438400
0.000000
0.000000
-2.438400
478570.492254
4830816.252000
