2.438400
0.000000
0.000000
-2.438400
468399.313786
4858620.168337
