2.438400
0.000000
0.000000
-2.438400
399342.455172
4942686.993885
