2.438400
0.000000
0.000000
-2.438400
389712.709591
4956707.674305
