2.438400000000
0.000000000000
0.000000000000
-2.438400000000
489382.631844392800
4997389.812784134400
